BEGIN:VCALENDAR
VERSION:2.0
PRODID:-//Urbanización Kryptón - ECPv6.15.14//NONSGML v1.0//EN
CALSCALE:GREGORIAN
METHOD:PUBLISH
X-WR-CALNAME:Urbanización Kryptón
X-ORIGINAL-URL:https://krypton-villaclub.com/home
X-WR-CALDESC:Eventos para Urbanización Kryptón
REFRESH-INTERVAL;VALUE=DURATION:PT1H
X-Robots-Tag:noindex
X-PUBLISHED-TTL:PT1H
BEGIN:VTIMEZONE
TZID:America/New_York
BEGIN:DAYLIGHT
TZOFFSETFROM:-0500
TZOFFSETTO:-0400
TZNAME:EDT
DTSTART:20250309T070000
END:DAYLIGHT
BEGIN:STANDARD
TZOFFSETFROM:-0400
TZOFFSETTO:-0500
TZNAME:EST
DTSTART:20251102T060000
END:STANDARD
BEGIN:DAYLIGHT
TZOFFSETFROM:-0500
TZOFFSETTO:-0400
TZNAME:EDT
DTSTART:20260308T070000
END:DAYLIGHT
BEGIN:STANDARD
TZOFFSETFROM:-0400
TZOFFSETTO:-0500
TZNAME:EST
DTSTART:20261101T060000
END:STANDARD
BEGIN:DAYLIGHT
TZOFFSETFROM:-0500
TZOFFSETTO:-0400
TZNAME:EDT
DTSTART:20270314T070000
END:DAYLIGHT
BEGIN:STANDARD
TZOFFSETFROM:-0400
TZOFFSETTO:-0500
TZNAME:EST
DTSTART:20271107T060000
END:STANDARD
END:VTIMEZONE
BEGIN:VEVENT
DTSTART;TZID=America/New_York:20260421T210000
DTEND;TZID=America/New_York:20260421T220000
DTSTAMP:20260421T010113
CREATED:20260420T212236Z
LAST-MODIFIED:20260420T213445Z
UID:10880-1776805200-1776808800@krypton-villaclub.com
SUMMARY:TENIS MZ10 V34
DESCRIPTION:
URL:https://krypton-villaclub.com/home/event/tenis-mz10-v34/
END:VEVENT
END:VCALENDAR